BEGIN:VCALENDAR
VERSION:2.0
PRODID:-//Tukios.com/
BEGIN:VEVENT
UID:972aef78-6871-4041-9a33-40509ff4aa5b@www.christopherkingsfh.com
DTSTAMP:20260424T012250Z
DTSTART:20260424T200000Z
DTEND:20260424T230000Z
SUMMARY:Visitation with Family
DESCRIPTION:The family ask that you only visit during the hours of 
	4pm-7pm each day
URL:https://www.christopherkingsfh.com/obituaries/heyward-smith-sr
LOCATION:Home 542 Carolina Drive  Chester SC 29706
GEO:34.718492;-81.2222629
END:VEVENT
END:VCALENDAR